0.25
0
0
-0.25
594739.63223
4662032.80438
