0.25
0
0
-0.25
611965.78613
4662293.23934
