0.25
0
0
-0.25
615411.0092
4662350.3889
