1
0
0
-1
559453.590358599
4747339.17666815
