1
0
0
-1
668622.545252882
4739945.19249959
