1
0
0
-1
559665.031315036
4724205.39563988
