1
0
0
-1
607632.322294845
4715553.22721285
