1
0
0
-1
614551.271412639
4711039.45317044
