1
0
0
-1
621396.424056871
4711159.03430802
