1
0
0
-1
559917.00657433
4696446.823332
