1
0
0
-1
648980.354479516
4702450.95012683
