1
0
0
-1
608442.275094716
4664663.24219846
