1
0
0
-1
629113.750563477
4665021.05237646
