1
0
0
-1
615643.557263934
4646271.21636131
