1
0
0
-1
592971.902021748
4784750.48310223
