1
0
0
-1
640571.158690057
4776332.97944439
