2.5
0
0
-2.5
579708.434438806
4752363.27354301
