2.5
0
0
-2.5
580636.11931142
4678339.52705163
