2.5
0
0
-2.5
635669.531411777
4679240.22655828
