2.5
0
0
-2.5
619856.636151433
4790016.22101511
