0.5
0
0
-0.5
559489.414730632
4749578.60716313
