0.5
0
0
-0.5
600216.741754613
4757003.40565531
