0.5
0
0
-0.5
607161.628975716
4747854.08017632
