0.5
0
0
-0.5
637748.668496581
4750720.77579402
