0.5
0
0
-0.5
607308.010204994
4738600.50545773
