0.5
0
0
-0.5
614163.348987149
4736398.32346399
