0.5
0
0
-0.5
634483.36148828
4743712.51755641
