0.5
0
0
-0.5
634574.797048838
4739085.82405496
