0.5
0
0
-0.5
665249.979344588
4739760.75313007
