0.5
0
0
-0.5
573426.335849678
4719639.22669171
