0.5
0
0
-0.5
573476.369599064
4715012.66439022
