0.5
0
0
-0.5
566682.53152124
4710315.4102694
