0.5
0
0
-0.5
570152.124326337
4705723.49439221
