0.5
0
0
-0.5
601004.040717078
4703796.71517529
