0.5
0
0
-0.5
618130.842734795
4704070.13566106
