0.5
0
0
-0.5
621801.351557912
4690250.62474615
