0.5
0
0
-0.5
587538.411748145
4685102.97287796
