0.5
0
0
-0.5
604780.749514157
4680716.33769595
