0.5
0
0
-0.5
597972.870458028
4675989.22922992
