0.5
0
0
-0.5
601682.676785221
4657533.82229739
