1
0
0
-1
661582.184288097
4749031.7671441
