1
0
0
-1
675078.823507605
4753999.04049645
