1
0
0
-1
607261.803786435
4738686.37193286
