1
0
0
-1
634718.201261401
4729925.25513988
