1
0
0
-1
614394.298043526
4720292.66908752
