1
0
0
-1
587830.539091436
4659739.79186861
