2.5
0
0
-2.5
566292.635425112
4733698.0489681
