0.5
0
0
-0.5
559448.143781244
4754205.48197922
