0.5
0
0
-0.5
562913.792715775
4747296.21660875
