0.5
0
0
-0.5
590081.389599214
4752232.48776078
